BEGIN:VCALENDAR
VERSION:2.0
PRODID:-//Alee Shriners - ECPv6.15.20//NONSGML v1.0//EN
CALSCALE:GREGORIAN
METHOD:PUBLISH
X-WR-CALNAME:Alee Shriners
X-ORIGINAL-URL:https://aleeshriners.org
X-WR-CALDESC:Events for Alee Shriners
REFRESH-INTERVAL;VALUE=DURATION:PT1H
X-Robots-Tag:noindex
X-PUBLISHED-TTL:PT1H
BEGIN:VTIMEZONE
TZID:America/New_York
BEGIN:DAYLIGHT
TZOFFSETFROM:-0500
TZOFFSETTO:-0400
TZNAME:EDT
DTSTART:20250309T070000
END:DAYLIGHT
BEGIN:STANDARD
TZOFFSETFROM:-0400
TZOFFSETTO:-0500
TZNAME:EST
DTSTART:20251102T060000
END:STANDARD
BEGIN:DAYLIGHT
TZOFFSETFROM:-0500
TZOFFSETTO:-0400
TZNAME:EDT
DTSTART:20260308T070000
END:DAYLIGHT
BEGIN:STANDARD
TZOFFSETFROM:-0400
TZOFFSETTO:-0500
TZNAME:EST
DTSTART:20261101T060000
END:STANDARD
BEGIN:DAYLIGHT
TZOFFSETFROM:-0500
TZOFFSETTO:-0400
TZNAME:EDT
DTSTART:20270314T070000
END:DAYLIGHT
BEGIN:STANDARD
TZOFFSETFROM:-0400
TZOFFSETTO:-0500
TZNAME:EST
DTSTART:20271107T060000
END:STANDARD
END:VTIMEZONE
BEGIN:VEVENT
DTSTART;TZID=America/New_York:20260622T193000
DTEND;TZID=America/New_York:20260622T210000
DTSTAMP:20260424T092012
CREATED:20260423T203234Z
LAST-MODIFIED:20260423T203420Z
UID:1322-1782156600-1782162000@aleeshriners.org
SUMMARY:Stated Session Ladies Program
DESCRIPTION:
URL:https://aleeshriners.org/event/stated-session-ladies-program/
LOCATION:Alee Arena\, 100 Eisenberg Dr\, Savannah\, GA\, 31406\, United States
CATEGORIES:Shrine Event
ATTACH;FMTTYPE=image/jpeg:https://aleeshriners.org/wp-content/uploads/2026/04/Stated-Session-Ladies-Program-Amazon-june-2026.jpg
END:VEVENT
END:VCALENDAR